BEGIN:VCALENDAR
VERSION:2.0
PRODID:-//jEvents 2.0 for Joomla//EN
CALSCALE:GREGORIAN
METHOD:PUBLISH
BEGIN:VTIMEZONE
TZID:America/New_York
BEGIN:STANDARD
DTSTART:20240305T000000
RDATE:20240310T030000
TZOFFSETFROM:-0400
TZOFFSETTO:-0500
TZNAME:America/New_York EST
END:STANDARD
BEGIN:STANDARD
DTSTART:20241103T010000
RDATE:20250309T030000
TZOFFSETFROM:-0400
TZOFFSETTO:-0500
TZNAME:America/New_York EST
END:STANDARD
BEGIN:STANDARD
DTSTART:20251102T010000
RDATE:20260308T030000
TZOFFSETFROM:-0400
TZOFFSETTO:-0500
TZNAME:America/New_York EST
END:STANDARD
BEGIN:STANDARD
DTSTART:20261101T010000
RDATE:20270314T030000
TZOFFSETFROM:-0400
TZOFFSETTO:-0500
TZNAME:America/New_York EST
END:STANDARD
BEGIN:STANDARD
DTSTART:20271107T010000
RDATE:20280312T030000
TZOFFSETFROM:-0400
TZOFFSETTO:-0500
TZNAME:America/New_York EST
END:STANDARD
BEGIN:STANDARD
DTSTART:20281105T010000
RDATE:20290311T030000
TZOFFSETFROM:-0400
TZOFFSETTO:-0500
TZNAME:America/New_York EST
END:STANDARD
BEGIN:DAYLIGHT
DTSTART:20240310T030000
RDATE:20241103T010000
TZOFFSETFROM:-0500
TZOFFSETTO:-0400
TZNAME:America/New_York EDT
END:DAYLIGHT
BEGIN:DAYLIGHT
DTSTART:20250309T030000
RDATE:20251102T010000
TZOFFSETFROM:-0500
TZOFFSETTO:-0400
TZNAME:America/New_York EDT
END:DAYLIGHT
BEGIN:DAYLIGHT
DTSTART:20260308T030000
RDATE:20261101T010000
TZOFFSETFROM:-0500
TZOFFSETTO:-0400
TZNAME:America/New_York EDT
END:DAYLIGHT
BEGIN:DAYLIGHT
DTSTART:20270314T030000
RDATE:20271107T010000
TZOFFSETFROM:-0500
TZOFFSETTO:-0400
TZNAME:America/New_York EDT
END:DAYLIGHT
BEGIN:DAYLIGHT
DTSTART:20280312T030000
RDATE:20281105T010000
TZOFFSETFROM:-0500
TZOFFSETTO:-0400
TZNAME:America/New_York EDT
END:DAYLIGHT
END:VTIMEZONE
BEGIN:VEVENT
UID:2cb6bc58f19582fc85bcf86c960d2697
CATEGORIES:Recreation & Lifestyle
CREATED:20241224T123153
SUMMARY:Spruce Meadows - Winter Farewell - Show Jumping
LOCATION:Spruce Meadows
DESCRIPTION:<p>The third show jumping event of the Winter Series, the February Classic 
 takes to the indoor comfort of the Spruce Meadows Equi-Plex.</p><p>Welcome 
 to the Winter Series at Spruce Meadows, one of the most exciting indoor equ
 estrian events of the year.  Held in the Equi-Plex, the Winter Series offer
 s spectators a unique opportunity to exciting equestrian action in a comfor
 table indoor setting. With free admission and free parking in Lot 7, Spruce
  Meadows is the perfect destination for a fun and affordable family outing.
  And don't miss the food concession that is open all weekend. Whether you'r
 e an equestrian enthusiast or just looking for a fun day out, the Winter Se
 ries at Spruce Meadows is an event not to be missed.</p><p>No tickets are r
 equired. This event is complimentary. </p>
DTSTAMP:20260425T024220
DTSTART;TZID=America/New_York;VALUE=DATE:20250306
DTEND;TZID=America/New_York;VALUE=DATE:20250310
SEQUENCE:0
TRANSP:OPAQUE
END:VEVENT
END:VCALENDAR