BEGIN:VCALENDAR
VERSION:2.0
PRODID:-//jEvents 2.0 for Joomla//EN
CALSCALE:GREGORIAN
METHOD:PUBLISH
BEGIN:VTIMEZONE
TZID:America/New_York
BEGIN:STANDARD
DTSTART:20241103T010000
RDATE:20250309T030000
TZOFFSETFROM:-0400
TZOFFSETTO:-0500
TZNAME:America/New_York EST
END:STANDARD
BEGIN:STANDARD
DTSTART:20251102T010000
RDATE:20260308T030000
TZOFFSETFROM:-0400
TZOFFSETTO:-0500
TZNAME:America/New_York EST
END:STANDARD
BEGIN:STANDARD
DTSTART:20261101T010000
RDATE:20270314T030000
TZOFFSETFROM:-0400
TZOFFSETTO:-0500
TZNAME:America/New_York EST
END:STANDARD
BEGIN:STANDARD
DTSTART:20271107T010000
RDATE:20280312T030000
TZOFFSETFROM:-0400
TZOFFSETTO:-0500
TZNAME:America/New_York EST
END:STANDARD
BEGIN:STANDARD
DTSTART:20281105T010000
RDATE:20290311T030000
TZOFFSETFROM:-0400
TZOFFSETTO:-0500
TZNAME:America/New_York EST
END:STANDARD
BEGIN:DAYLIGHT
DTSTART:20240612T000000
RDATE:20241103T010000
TZOFFSETFROM:-0500
TZOFFSETTO:-0400
TZNAME:America/New_York EDT
END:DAYLIGHT
BEGIN:DAYLIGHT
DTSTART:20250309T030000
RDATE:20251102T010000
TZOFFSETFROM:-0500
TZOFFSETTO:-0400
TZNAME:America/New_York EDT
END:DAYLIGHT
BEGIN:DAYLIGHT
DTSTART:20260308T030000
RDATE:20261101T010000
TZOFFSETFROM:-0500
TZOFFSETTO:-0400
TZNAME:America/New_York EDT
END:DAYLIGHT
BEGIN:DAYLIGHT
DTSTART:20270314T030000
RDATE:20271107T010000
TZOFFSETFROM:-0500
TZOFFSETTO:-0400
TZNAME:America/New_York EDT
END:DAYLIGHT
BEGIN:DAYLIGHT
DTSTART:20280312T030000
RDATE:20281105T010000
TZOFFSETFROM:-0500
TZOFFSETTO:-0400
TZNAME:America/New_York EDT
END:DAYLIGHT
END:VTIMEZONE
BEGIN:VEVENT
UID:72f654d07813cb9a563f0787203d7a05
CATEGORIES:English Riding
CREATED:20241224T122404
SUMMARY:Golden State Dressage - Golden Stage Classic , Murieta Equestrian Center
LOCATION:Murieta Equestrian Center
DESCRIPTION:USEF, CDS, USDF\n
Recognized Dressage Show—Level 3\n
Golden State Classic, 
 June 13-15
Featuring the CDS Northern California RAAC &amp; Jr/YR Competiti
 ons
\n
Judges: 
Ellie Stine-Masek, Jeanne McDonald &amp; Lisa Schmidt


\n

 2025 FEI North American Youth Championship\n
2025 USEF Pony Rider Dressage 
 National Championship\n
2025 USEF Children Dressage National Championship\n
 
2025 Adequan /USEF Junior Dressage National Championship\n
2025 Horseware 
 Ireland/USEF Young Rider Dressage National Championship\n
2025 Adequan/USEF
  Young Adult ‘Bretina Cup’ Dressage National Championship\n
2025 Markel/USE
 F Young &amp; Developing Horse Dressage Championships\n
2025 USEF Intermedi
 aire I Dressage National Championship\n
2025 USEF Grand Prix Dressage Natio
 nal Championships\n
2025 USEF Para Dressage National Championship\n
2025 FE
 I World Breeding Championships for Young Horses in Dressage (Five, Six &amp
 ; Seven-Year-Old)
X-ALT-DESC;FMTTYPE=text/html:USEF, CDS, USDF<br />Recognized Dressage Show—Level 3<br />Golden State Cla
 ssic, June 13-15Featuring the CDS Northern California RAAC & Jr/YR Competit
 ions<br />Judges: Ellie Stine-Masek, Jeanne McDonald & Lisa Schmidt<br />20
 25 FEI North American Youth Championship<br />2025 USEF Pony Rider Dressage
  National Championship<br />2025 USEF Children Dressage National Championsh
 ip<br />2025 Adequan /USEF Junior Dressage National Championship<br />2025 
 Horseware Ireland/USEF Young Rider Dressage National Championship<br />2025
  Adequan/USEF Young Adult ‘Bretina Cup’ Dressage National Championship<br /
 >2025 Markel/USEF Young & Developing Horse Dressage Championships<br />2025
  USEF Intermediaire I Dressage National Championship<br />2025 USEF Grand P
 rix Dressage National Championships<br />2025 USEF Para Dressage National C
 hampionship<br />2025 FEI World Breeding Championships for Young Horses in 
 Dressage (Five, Six & Seven-Year-Old)
DTSTAMP:20260425T023804
DTSTART;TZID=America/New_York;VALUE=DATE:20250613
DTEND;TZID=America/New_York;VALUE=DATE:20250616
SEQUENCE:0
TRANSP:OPAQUE
END:VEVENT
END:VCALENDAR