BEGIN:VCALENDAR
VERSION:2.0
PRODID:-//jEvents 2.0 for Joomla//EN
CALSCALE:GREGORIAN
METHOD:PUBLISH
BEGIN:VTIMEZONE
TZID:America/New_York
BEGIN:STANDARD
DTSTART:20240117T000000
RDATE:20240310T030000
TZOFFSETFROM:-0400
TZOFFSETTO:-0500
TZNAME:America/New_York EST
END:STANDARD
BEGIN:STANDARD
DTSTART:20241103T010000
RDATE:20250309T030000
TZOFFSETFROM:-0400
TZOFFSETTO:-0500
TZNAME:America/New_York EST
END:STANDARD
BEGIN:STANDARD
DTSTART:20251102T010000
RDATE:20260308T030000
TZOFFSETFROM:-0400
TZOFFSETTO:-0500
TZNAME:America/New_York EST
END:STANDARD
BEGIN:STANDARD
DTSTART:20261101T010000
RDATE:20270314T030000
TZOFFSETFROM:-0400
TZOFFSETTO:-0500
TZNAME:America/New_York EST
END:STANDARD
BEGIN:STANDARD
DTSTART:20271107T010000
RDATE:20280312T030000
TZOFFSETFROM:-0400
TZOFFSETTO:-0500
TZNAME:America/New_York EST
END:STANDARD
BEGIN:STANDARD
DTSTART:20281105T010000
RDATE:20290311T030000
TZOFFSETFROM:-0400
TZOFFSETTO:-0500
TZNAME:America/New_York EST
END:STANDARD
BEGIN:DAYLIGHT
DTSTART:20240310T030000
RDATE:20241103T010000
TZOFFSETFROM:-0500
TZOFFSETTO:-0400
TZNAME:America/New_York EDT
END:DAYLIGHT
BEGIN:DAYLIGHT
DTSTART:20250309T030000
RDATE:20251102T010000
TZOFFSETFROM:-0500
TZOFFSETTO:-0400
TZNAME:America/New_York EDT
END:DAYLIGHT
BEGIN:DAYLIGHT
DTSTART:20260308T030000
RDATE:20261101T010000
TZOFFSETFROM:-0500
TZOFFSETTO:-0400
TZNAME:America/New_York EDT
END:DAYLIGHT
BEGIN:DAYLIGHT
DTSTART:20270314T030000
RDATE:20271107T010000
TZOFFSETFROM:-0500
TZOFFSETTO:-0400
TZNAME:America/New_York EDT
END:DAYLIGHT
BEGIN:DAYLIGHT
DTSTART:20280312T030000
RDATE:20281105T010000
TZOFFSETFROM:-0500
TZOFFSETTO:-0400
TZNAME:America/New_York EDT
END:DAYLIGHT
END:VTIMEZONE
BEGIN:VEVENT
UID:a27d153b481c4187c8313db2cdc3be93
CATEGORIES:Rodeo
CREATED:20241224T121707
SUMMARY:Fort Worth Stock Show & Rodeo, Southwestern Exposition & Livestock Show
LOCATION:Will Rogers Memorial Center
DESCRIPTION:This Thing is Legendary®! It’s not just a slogan. It’s why the Fort Worth S
 tock Show &amp; Rodeo is the most authentic western lifestyle experience an
 ywhere – since 1896. It’s exciting, it’s fun, it’s 23 days of what makes Fo
 rt Worth the greatest city in Texas!\n
Our rodeo action features the Best o
 f the West Ranch Rodeo, Best of Mexico Celebración, Cowboys of Color Rodeo,
  Bulls Night Out Extreme Bull Riding and Rodeo X Extreme Team Competition. 
 The FWSSR PRORODEO Tournament tops it off in the world’s most awesome venue
  for rodeo – Dickies Arena.\n
We also have livestock and horse shows, kid-f
 riendly activities and exhibits, live music, carnival midway, shopping, gre
 at food and much more. After experiencing it all, we bet you’ll agree – Thi
 s Thing IS Legendary!
X-ALT-DESC;FMTTYPE=text/html:This Thing is Legendary®! It’s not just a slogan. It’s why the Fort Worth S
 tock Show & Rodeo is the most authentic western lifestyle experience anywhe
 re – since 1896. It’s exciting, it’s fun, it’s 23 days of what makes Fort W
 orth the greatest city in Texas!<br />Our rodeo action features the Best of
  the West Ranch Rodeo, Best of Mexico Celebración, Cowboys of Color Rodeo, 
 Bulls Night Out Extreme Bull Riding and Rodeo X Extreme Team Competition. T
 he FWSSR PRORODEO Tournament tops it off in the world’s most awesome venue 
 for rodeo – Dickies Arena.<br />We also have livestock and horse shows, kid
 -friendly activities and exhibits, live music, carnival midway, shopping, g
 reat food and much more. After experiencing it all, we bet you’ll agree – T
 his Thing IS Legendary!
DTSTAMP:20260425T004522
DTSTART;TZID=America/New_York;VALUE=DATE:20250117
DTEND;TZID=America/New_York;VALUE=DATE:20250209
SEQUENCE:0
TRANSP:OPAQUE
END:VEVENT
END:VCALENDAR