BEGIN:VCALENDAR
VERSION:2.0
PRODID:-//jEvents 2.0 for Joomla//EN
CALSCALE:GREGORIAN
METHOD:PUBLISH
BEGIN:VTIMEZONE
TZID:America/New_York
BEGIN:STANDARD
DTSTART:20240125T000000
RDATE:20240310T030000
TZOFFSETFROM:-0400
TZOFFSETTO:-0500
TZNAME:America/New_York EST
END:STANDARD
BEGIN:STANDARD
DTSTART:20241103T010000
RDATE:20250309T030000
TZOFFSETFROM:-0400
TZOFFSETTO:-0500
TZNAME:America/New_York EST
END:STANDARD
BEGIN:STANDARD
DTSTART:20251102T010000
RDATE:20260308T030000
TZOFFSETFROM:-0400
TZOFFSETTO:-0500
TZNAME:America/New_York EST
END:STANDARD
BEGIN:STANDARD
DTSTART:20261101T010000
RDATE:20270314T030000
TZOFFSETFROM:-0400
TZOFFSETTO:-0500
TZNAME:America/New_York EST
END:STANDARD
BEGIN:STANDARD
DTSTART:20271107T010000
RDATE:20280312T030000
TZOFFSETFROM:-0400
TZOFFSETTO:-0500
TZNAME:America/New_York EST
END:STANDARD
BEGIN:STANDARD
DTSTART:20281105T010000
RDATE:20290311T030000
TZOFFSETFROM:-0400
TZOFFSETTO:-0500
TZNAME:America/New_York EST
END:STANDARD
BEGIN:DAYLIGHT
DTSTART:20240310T030000
RDATE:20241103T010000
TZOFFSETFROM:-0500
TZOFFSETTO:-0400
TZNAME:America/New_York EDT
END:DAYLIGHT
BEGIN:DAYLIGHT
DTSTART:20250309T030000
RDATE:20251102T010000
TZOFFSETFROM:-0500
TZOFFSETTO:-0400
TZNAME:America/New_York EDT
END:DAYLIGHT
BEGIN:DAYLIGHT
DTSTART:20260308T030000
RDATE:20261101T010000
TZOFFSETFROM:-0500
TZOFFSETTO:-0400
TZNAME:America/New_York EDT
END:DAYLIGHT
BEGIN:DAYLIGHT
DTSTART:20270314T030000
RDATE:20271107T010000
TZOFFSETFROM:-0500
TZOFFSETTO:-0400
TZNAME:America/New_York EDT
END:DAYLIGHT
BEGIN:DAYLIGHT
DTSTART:20280312T030000
RDATE:20281105T010000
TZOFFSETFROM:-0500
TZOFFSETTO:-0400
TZNAME:America/New_York EDT
END:DAYLIGHT
END:VTIMEZONE
BEGIN:VEVENT
UID:6f8cfc5456068d0f6a2d102a8c8c8b10
CATEGORIES:Horse Racing
CREATED:20241224T121528
SUMMARY:Pegasus World Cup, Gulfstream Park, Hallandale Beach, FL
LOCATION:Gulfstream Park
DESCRIPTION:In the past eight years, Pegasus World Cup has quickly established itself a
 s South Florida’s leading luxury sports and lifestyle event of the year. Na
 tionally broadcast on NBC and distributed globally, Pegasus World Cup attra
 cts A-list celebrity attendees, fashion icons, influencers and avid fans to
  catch a glimpse of the sport’s most iconic event of the year.\n
\n
Launche
 d in 2017 as part of 1/ST’s mission to excite, energize and modernize the s
 port of racing for a new generation of fans, the Pegasus World Cup provides
  lucrative opportunities for Thoroughbred owners and trainers.\n
\n
With hi
 storic wins from some of the most celebrated names in Thoroughbred horse ra
 cing including Arrogate, 2021’s Knicks Go, 2022’s Life Is Good, 2023’s Art 
 Collector and 2024’s National Treasure. Pegasus continues to draw the best 
 in racing and entertainment through a continued focus on innovation.\n
\n
P
 egasus sets the stage for everyone.
X-ALT-DESC;FMTTYPE=text/html:In the past eight years, Pegasus World Cup has quickly established itself a
 s South Florida’s leading luxury sports and lifestyle event of the year. Na
 tionally broadcast on NBC and distributed globally, Pegasus World Cup attra
 cts A-list celebrity attendees, fashion icons, influencers and avid fans to
  catch a glimpse of the sport’s most iconic event of the year.<br /><br />L
 aunched in 2017 as part of 1/ST’s mission to excite, energize and modernize
  the sport of racing for a new generation of fans, the Pegasus World Cup pr
 ovides lucrative opportunities for Thoroughbred owners and trainers.<br /><
 br />With historic wins from some of the most celebrated names in Thoroughb
 red horse racing including Arrogate, 2021’s Knicks Go, 2022’s Life Is Good,
  2023’s Art Collector and 2024’s National Treasure. Pegasus continues to dr
 aw the best in racing and entertainment through a continued focus on innova
 tion.<br /><br />Pegasus sets the stage for everyone.
DTSTAMP:20260425T005618
DTSTART;TZID=America/New_York;VALUE=DATE:20250125
DTEND;TZID=America/New_York;VALUE=DATE:20250126
SEQUENCE:0
TRANSP:OPAQUE
END:VEVENT
END:VCALENDAR