BEGIN:VCALENDAR
VERSION:2.0
PRODID:-//jEvents 2.0 for Joomla//EN
CALSCALE:GREGORIAN
METHOD:PUBLISH
BEGIN:VTIMEZONE
TZID:America/New_York
BEGIN:STANDARD
DTSTART:20241103T010000
RDATE:20250309T030000
TZOFFSETFROM:-0400
TZOFFSETTO:-0500
TZNAME:America/New_York EST
END:STANDARD
BEGIN:STANDARD
DTSTART:20251102T010000
RDATE:20260308T030000
TZOFFSETFROM:-0400
TZOFFSETTO:-0500
TZNAME:America/New_York EST
END:STANDARD
BEGIN:STANDARD
DTSTART:20261101T010000
RDATE:20270314T030000
TZOFFSETFROM:-0400
TZOFFSETTO:-0500
TZNAME:America/New_York EST
END:STANDARD
BEGIN:STANDARD
DTSTART:20271107T010000
RDATE:20280312T030000
TZOFFSETFROM:-0400
TZOFFSETTO:-0500
TZNAME:America/New_York EST
END:STANDARD
BEGIN:STANDARD
DTSTART:20281105T010000
RDATE:20290311T030000
TZOFFSETFROM:-0400
TZOFFSETTO:-0500
TZNAME:America/New_York EST
END:STANDARD
BEGIN:DAYLIGHT
DTSTART:20240506T000000
RDATE:20241103T010000
TZOFFSETFROM:-0500
TZOFFSETTO:-0400
TZNAME:America/New_York EDT
END:DAYLIGHT
BEGIN:DAYLIGHT
DTSTART:20250309T030000
RDATE:20251102T010000
TZOFFSETFROM:-0500
TZOFFSETTO:-0400
TZNAME:America/New_York EDT
END:DAYLIGHT
BEGIN:DAYLIGHT
DTSTART:20260308T030000
RDATE:20261101T010000
TZOFFSETFROM:-0500
TZOFFSETTO:-0400
TZNAME:America/New_York EDT
END:DAYLIGHT
BEGIN:DAYLIGHT
DTSTART:20270314T030000
RDATE:20271107T010000
TZOFFSETFROM:-0500
TZOFFSETTO:-0400
TZNAME:America/New_York EDT
END:DAYLIGHT
BEGIN:DAYLIGHT
DTSTART:20280312T030000
RDATE:20281105T010000
TZOFFSETFROM:-0500
TZOFFSETTO:-0400
TZNAME:America/New_York EDT
END:DAYLIGHT
END:VTIMEZONE
BEGIN:VEVENT
UID:5270d0c2491e22668c349aab05d5429c
CATEGORIES:Horse Show
CREATED:20241121T094509
SUMMARY:The World of the Horse 2025
LOCATION:Gloucester Park\, UK
DESCRIPTION:<p>The World of the Horse enjoys a prominent position on each showground an
 d the proposed schedule for 2025 is as follows:<br />Badminton Horse Trials
 , 7-11 May, Gloucestershire<br />Burghley Horse Trials, 4-7 Sept, Lincolnsh
 ire</p><p>Reach over half a million equestrian people by exhibiting at the 
 two largest events in the UK equestrian calendar, plus gain valuable exposu
 re in Horse & Rider and PONY Magazine.</p><p>The World of the Horse 2025 ca
 n take you to Badminton and Burghley Horse Trials, the former being the wor
 ld’s largest 3 day event that now has a total footfall over the 5 days of t
 he event of close on 500,000.</p><p>The World of the Horse is a high spec p
 avilion housing a wooden ‘stable style’ shell scheme. The principal aim is 
 to attract a wide cross section of exhibitors who wish to promote and sell 
 their products or services to the general public – the ultimate consumer. T
 he concept is now well established at the major showgrounds. Our Aims Exhib
 iting in The World of the Horse offers you all of this and more. The enviro
 nment is geared to enhancing your company image and raising public awarenes
 s about your product. As a promotional platform it has considerable proven 
 success, and maintaining a balanced and lively marketing mix is vital to th
 e way it works.</p> 
DTSTAMP:20260425T024235
DTSTART;TZID=America/New_York;VALUE=DATE:20250507
DTEND;TZID=America/New_York;VALUE=DATE:20250512
SEQUENCE:0
TRANSP:OPAQUE
END:VEVENT
END:VCALENDAR