BEGIN:VCALENDAR
VERSION:2.0
PRODID:-//jEvents 2.0 for Joomla//EN
CALSCALE:GREGORIAN
METHOD:PUBLISH
BEGIN:VTIMEZONE
TZID:America/New_York
BEGIN:STANDARD
DTSTART:20241103T010000
RDATE:20250309T030000
TZOFFSETFROM:-0400
TZOFFSETTO:-0500
TZNAME:America/New_York EST
END:STANDARD
BEGIN:STANDARD
DTSTART:20251102T010000
RDATE:20260308T030000
TZOFFSETFROM:-0400
TZOFFSETTO:-0500
TZNAME:America/New_York EST
END:STANDARD
BEGIN:STANDARD
DTSTART:20261101T010000
RDATE:20270314T030000
TZOFFSETFROM:-0400
TZOFFSETTO:-0500
TZNAME:America/New_York EST
END:STANDARD
BEGIN:STANDARD
DTSTART:20271107T010000
RDATE:20280312T030000
TZOFFSETFROM:-0400
TZOFFSETTO:-0500
TZNAME:America/New_York EST
END:STANDARD
BEGIN:STANDARD
DTSTART:20281105T010000
RDATE:20290311T030000
TZOFFSETFROM:-0400
TZOFFSETTO:-0500
TZNAME:America/New_York EST
END:STANDARD
BEGIN:DAYLIGHT
DTSTART:20240919T000000
RDATE:20241103T010000
TZOFFSETFROM:-0500
TZOFFSETTO:-0400
TZNAME:America/New_York EDT
END:DAYLIGHT
BEGIN:DAYLIGHT
DTSTART:20250309T030000
RDATE:20251102T010000
TZOFFSETFROM:-0500
TZOFFSETTO:-0400
TZNAME:America/New_York EDT
END:DAYLIGHT
BEGIN:DAYLIGHT
DTSTART:20260308T030000
RDATE:20261101T010000
TZOFFSETFROM:-0500
TZOFFSETTO:-0400
TZNAME:America/New_York EDT
END:DAYLIGHT
BEGIN:DAYLIGHT
DTSTART:20270314T030000
RDATE:20271107T010000
TZOFFSETFROM:-0500
TZOFFSETTO:-0400
TZNAME:America/New_York EDT
END:DAYLIGHT
BEGIN:DAYLIGHT
DTSTART:20280312T030000
RDATE:20281105T010000
TZOFFSETFROM:-0500
TZOFFSETTO:-0400
TZNAME:America/New_York EDT
END:DAYLIGHT
END:VTIMEZONE
BEGIN:VEVENT
UID:e1669e8c9e083d6d9290bc9e0bd8a093
CATEGORIES:Health & Education
CREATED:20241104T134633
SUMMARY:Monty Roberts Horsemanship 101, Flag is Up Farms, Solvang, CA - Sept 2025
LOCATION:Flag Is Up Farms
DESCRIPTION:Our Horsemanship 101 is perfect for those new to horses, returning after a 
 long break or trying to overcome fear, or those who would like a brief intr
 oduction to Monty Roberts’ methods.<br /><br />Now offered as a one-day cou
 rse, Horsemanship 101 is also recommended for visitors and residents who wo
 uld like to experience a day at Flag Is Up Farms.<br /><br />Classroom disc
 ussion will provide an introduction to how horses think and behave, while p
 ractical sessions will teach you how to approach, halter, lead, groom and m
 ove safely around a horse. You will learn the basic concept behind Monty Ro
 berts’ Dually® halter and after watching Join-Up® demonstrations, will expe
 rience a guided round pen session to feel the power of inter-species commun
 ication.<br /><br />Topics include:<br /><br />Non-violent approach to work
 ing with a horse<br /><br />An introduction to Equus – the horses’ natural 
 communication system<br /><br />Building a trust-based partnership<br /><br
  />Approaching, touching and handling a horse<br /><br />How horses learn, 
 think and see<br /><br />Join-Up in the round pen<br /><br />Grooming a hor
 se<br /><br />How to fit and use the Dually Training Halter<br /><br />Spat
 ial awareness, breathing and intention<br /><br />Monty Roberts Horsemanshi
 p 101 RosetteA rosette token of accomplishment* will be provided upon compl
 eting the course.<br /><br />*Please note, the rosettes token does not make
  a statement about the holder’s status as a horse trainer and does not cont
 ribute towards certification which is only available through the Certificat
 ion program.  <p>Keeping up with equestrian community events is crucial for
  fostering connections, staying informed about important industry changes, 
 and supporting the sport's health and growth. Staying current benefits ever
 yone from riders and trainers to spectators and local businesses. Enhancing
  community and personal growth</p><p>    Networking and mentorship: Events,
  both online and in-person, are a prime opportunity to connect with fellow 
 enthusiasts, find mentors, and make professional connections. This helps bu
 ild a strong network of support, whether you are a seasoned competitor or n
 ew to the sport.</p><p>    Fostering inclusivity: Events can cultivate a we
 lcoming and approachable atmosphere for everyone, from beginners to seasone
 d riders. This strengthens the sport by encouraging continued participation
  and growth.</p><p>    Boosting mental health: Engaging with the equestrian
  community provides a sense of camaraderie and belonging, which contributes
  to mental and physical well-being. The supportive environment can be a gre
 at comfort during challenges, and it fosters lasting friendships. </p>
DTSTAMP:20260425T030820
DTSTART;TZID=America/New_York;VALUE=DATE:20250920
DTEND;TZID=America/New_York;VALUE=DATE:20250921
SEQUENCE:0
TRANSP:OPAQUE
END:VEVENT
END:VCALENDAR