BEGIN:VCALENDAR
VERSION:2.0
PRODID:-//jEvents 2.0 for Joomla//EN
CALSCALE:GREGORIAN
METHOD:PUBLISH
BEGIN:VTIMEZONE
TZID:America/New_York
BEGIN:STANDARD
DTSTART:20241103T010000
RDATE:20250309T030000
TZOFFSETFROM:-0400
TZOFFSETTO:-0500
TZNAME:America/New_York EST
END:STANDARD
BEGIN:STANDARD
DTSTART:20251102T010000
RDATE:20260308T030000
TZOFFSETFROM:-0400
TZOFFSETTO:-0500
TZNAME:America/New_York EST
END:STANDARD
BEGIN:STANDARD
DTSTART:20261101T010000
RDATE:20270314T030000
TZOFFSETFROM:-0400
TZOFFSETTO:-0500
TZNAME:America/New_York EST
END:STANDARD
BEGIN:STANDARD
DTSTART:20271107T010000
RDATE:20280312T030000
TZOFFSETFROM:-0400
TZOFFSETTO:-0500
TZNAME:America/New_York EST
END:STANDARD
BEGIN:STANDARD
DTSTART:20281105T010000
RDATE:20290311T030000
TZOFFSETFROM:-0400
TZOFFSETTO:-0500
TZNAME:America/New_York EST
END:STANDARD
BEGIN:DAYLIGHT
DTSTART:20240420T000000
RDATE:20241103T010000
TZOFFSETFROM:-0500
TZOFFSETTO:-0400
TZNAME:America/New_York EDT
END:DAYLIGHT
BEGIN:DAYLIGHT
DTSTART:20250309T030000
RDATE:20251102T010000
TZOFFSETFROM:-0500
TZOFFSETTO:-0400
TZNAME:America/New_York EDT
END:DAYLIGHT
BEGIN:DAYLIGHT
DTSTART:20260308T030000
RDATE:20261101T010000
TZOFFSETFROM:-0500
TZOFFSETTO:-0400
TZNAME:America/New_York EDT
END:DAYLIGHT
BEGIN:DAYLIGHT
DTSTART:20270314T030000
RDATE:20271107T010000
TZOFFSETFROM:-0500
TZOFFSETTO:-0400
TZNAME:America/New_York EDT
END:DAYLIGHT
BEGIN:DAYLIGHT
DTSTART:20280312T030000
RDATE:20281105T010000
TZOFFSETFROM:-0500
TZOFFSETTO:-0400
TZNAME:America/New_York EDT
END:DAYLIGHT
END:VTIMEZONE
BEGIN:VEVENT
UID:0497a4fcc0b25589221945daecc82506
CATEGORIES:Health & Education
CREATED:20241104T134105
SUMMARY:Monty Roberts - Special Training
LOCATION:Flag Is Up Farms
DESCRIPTION:Monty’s Special Training\n
Come witness what created a re-direction in hors
 emanship and open your mind to a whole new perspective on your horse’s meth
 ods of communication and behavior.\n
\n
Monty’s Special Training is a uniqu
 e opportunity to be at Flag Is Up Farms with Monty, watching, asking questi
 ons and learning as Monty Roberts and a team of his Certified Instructors w
 ork with a range of young and remedial horses.\n
\n
By observing this renow
 ned and gifted horseman, you gain first-hand knowledge during demonstration
 s, lectures and discussions. This class is for the novice, as well as the a
 dvanced student, to observe a master at work practicing his discoveries tha
 t have changed the horse world internationally.\n
\n
Experience what hundre
 ds of students have discovered at Monty Roberts International Learning Cent
 er; a wonderful learning environment where you will enjoy the staff, meet n
 ew friends and return home with a better understanding of your equine compa
 nion. Every horse enthusiast can find lessons to fit their interests.\n
\n

 Monty Roberts shares how to communicate with horses in their natural langua
 ge in various situations during this intensive five-day class.\n
\n
This ex
 clusive format helps you better understand problem solving using Monty’s vi
 olence-free training methods. Depending on the horses brought in to train t
 hat week, these issues may be a part of the course:\n
\n
Leadership issues\
 n
\n
Ground manners\n
\n
Teaching a horse to tie\n
\n
Crossing water (and/o
 r obstacles)\n
\n
Fitting a bridle on a difficult horse\n
\n
Trailer loadin
 g\n
\n
Head-shyness\n
\n
Mounting\n
\n
Bucking\n
\n
Standing for the farrie
 r\n
\n
Kicking and biting\n
\n
Starting a young horse\n
\n
And more …\n
\n

 Spend time with like-minded people absorbing what non-violent communication
  can be. Enjoy the included lunch daily and share lively discussions with M
 onty Roberts and students from around the world as each day is full with le
 arning.
X-ALT-DESC;FMTTYPE=text/html:Monty’s Special Training<br />Come witness what created a re-direction in h
 orsemanship and open your mind to a whole new perspective on your horse’s m
 ethods of communication and behavior.<br /><br />Monty’s Special Training i
 s a unique opportunity to be at Flag Is Up Farms with Monty, watching, aski
 ng questions and learning as Monty Roberts and a team of his Certified Inst
 ructors work with a range of young and remedial horses.<br /><br />By obser
 ving this renowned and gifted horseman, you gain first-hand knowledge durin
 g demonstrations, lectures and discussions. This class is for the novice, a
 s well as the advanced student, to observe a master at work practicing his 
 discoveries that have changed the horse world internationally.<br /><br />E
 xperience what hundreds of students have discovered at Monty Roberts Intern
 ational Learning Center; a wonderful learning environment where you will en
 joy the staff, meet new friends and return home with a better understanding
  of your equine companion. Every horse enthusiast can find lessons to fit t
 heir interests.<br /><br />Monty Roberts shares how to communicate with hor
 ses in their natural language in various situations during this intensive f
 ive-day class.<br /><br />This exclusive format helps you better understand
  problem solving using Monty’s violence-free training methods. Depending on
  the horses brought in to train that week, these issues may be a part of th
 e course:<br /><br />Leadership issues<br /><br />Ground manners<br /><br /
 >Teaching a horse to tie<br /><br />Crossing water (and/or obstacles)<br />
 <br />Fitting a bridle on a difficult horse<br /><br />Trailer loading<br /
 ><br />Head-shyness<br /><br />Mounting<br /><br />Bucking<br /><br />Stand
 ing for the farrier<br /><br />Kicking and biting<br /><br />Starting a you
 ng horse<br /><br />And more …<br /><br />Spend time with like-minded peopl
 e absorbing what non-violent communication can be. Enjoy the included lunch
  daily and share lively discussions with Monty Roberts and students from ar
 ound the world as each day is full with learning.
DTSTAMP:20260425T030717
DTSTART;TZID=America/New_York;VALUE=DATE:20250421
DTEND;TZID=America/New_York;VALUE=DATE:20250426
SEQUENCE:0
TRANSP:OPAQUE
END:VEVENT
END:VCALENDAR