BEGIN:VCALENDAR
VERSION:2.0
PRODID:-//jEvents 2.0 for Joomla//EN
CALSCALE:GREGORIAN
METHOD:PUBLISH
BEGIN:VTIMEZONE
TZID:America/New_York
BEGIN:STANDARD
DTSTART:20241103T010000
RDATE:20250309T030000
TZOFFSETFROM:-0400
TZOFFSETTO:-0500
TZNAME:America/New_York EST
END:STANDARD
BEGIN:STANDARD
DTSTART:20251102T010000
RDATE:20260308T030000
TZOFFSETFROM:-0400
TZOFFSETTO:-0500
TZNAME:America/New_York EST
END:STANDARD
BEGIN:STANDARD
DTSTART:20261101T010000
RDATE:20270314T030000
TZOFFSETFROM:-0400
TZOFFSETTO:-0500
TZNAME:America/New_York EST
END:STANDARD
BEGIN:STANDARD
DTSTART:20271107T010000
RDATE:20280312T030000
TZOFFSETFROM:-0400
TZOFFSETTO:-0500
TZNAME:America/New_York EST
END:STANDARD
BEGIN:STANDARD
DTSTART:20281105T010000
RDATE:20290311T030000
TZOFFSETFROM:-0400
TZOFFSETTO:-0500
TZNAME:America/New_York EST
END:STANDARD
BEGIN:DAYLIGHT
DTSTART:20240315T120000
RDATE:20241103T010000
TZOFFSETFROM:-0500
TZOFFSETTO:-0400
TZNAME:America/New_York EDT
END:DAYLIGHT
BEGIN:DAYLIGHT
DTSTART:20250309T030000
RDATE:20251102T010000
TZOFFSETFROM:-0500
TZOFFSETTO:-0400
TZNAME:America/New_York EDT
END:DAYLIGHT
BEGIN:DAYLIGHT
DTSTART:20260308T030000
RDATE:20261101T010000
TZOFFSETFROM:-0500
TZOFFSETTO:-0400
TZNAME:America/New_York EDT
END:DAYLIGHT
BEGIN:DAYLIGHT
DTSTART:20270314T030000
RDATE:20271107T010000
TZOFFSETFROM:-0500
TZOFFSETTO:-0400
TZNAME:America/New_York EDT
END:DAYLIGHT
BEGIN:DAYLIGHT
DTSTART:20280312T030000
RDATE:20281105T010000
TZOFFSETFROM:-0500
TZOFFSETTO:-0400
TZNAME:America/New_York EDT
END:DAYLIGHT
END:VTIMEZONE
BEGIN:VEVENT
UID:fcd3d3a68889a46088f55c5398345b8a
CATEGORIES:English Riding
CREATED:20241010T094717
SUMMARY:Legend Acres at Wickenburg Saddle Club Saddle Series
LOCATION: Everett Bowman Rodeo Arena
DESCRIPTION:Sign up today for the Wickenburg Saddle Club Gymkhana Show with Legend Acre
 s! English &amp; Western Riding.

For a $75 show fee, you'll get everything
  you need, including horse trailering, tack, and personalized coaching thro
 ughout the event. 

Please note that a Wickenburg Saddle Club membership is
  required to compete. You can register for membership here (https://signnow
 .com/s/3PGX8gwx) and email completed form to wickenburgsaddleclub@gmail.com
  (mailto:wickenburgsaddleclub@gmail.com).

This is a great opportunity for 
 riders of all levels to gain experience and compete in a fun, supportive en
 vironment. Don't miss out—join us for a great day in the arena!

X-ALT-DESC;FMTTYPE=text/html:Sign up today for the Wickenburg Saddle Club Gymkhana Show with Legend Acre
 s! English & Western Riding.For a $75 show fee, you'll get everything you n
 eed, including horse trailering, tack, and personalized coaching throughout
  the event. Please note that a Wickenburg Saddle Club membership is require
 d to compete. You can register for membership <a href="https://signnow.com/
 s/3PGX8gwx" target="_blank">here</a> and email completed form to <a href="m
 ailto:wickenburgsaddleclub@gmail.com">wickenburgsaddleclub@gmail.com</a>.Th
 is is a great opportunity for riders of all levels to gain experience and c
 ompete in a fun, supportive environment. Don't miss out—join us for a great
  day in the arena!
DTSTAMP:20260425T030809
DTSTART;TZID=America/New_York:20250316T120000
DTEND;TZID=America/New_York:20250316T150000
SEQUENCE:0
TRANSP:OPAQUE
END:VEVENT
END:VCALENDAR