BEGIN:VCALENDAR
VERSION:2.0
PRODID:-//jEvents 2.0 for Joomla//EN
CALSCALE:GREGORIAN
METHOD:PUBLISH
BEGIN:VTIMEZONE
TZID:America/New_York
BEGIN:STANDARD
DTSTART:20231105T010000
RDATE:20240310T030000
TZOFFSETFROM:-0400
TZOFFSETTO:-0500
TZNAME:America/New_York EST
END:STANDARD
BEGIN:STANDARD
DTSTART:20241103T010000
RDATE:20250309T030000
TZOFFSETFROM:-0400
TZOFFSETTO:-0500
TZNAME:America/New_York EST
END:STANDARD
BEGIN:STANDARD
DTSTART:20251102T010000
RDATE:20260308T030000
TZOFFSETFROM:-0400
TZOFFSETTO:-0500
TZNAME:America/New_York EST
END:STANDARD
BEGIN:STANDARD
DTSTART:20261101T010000
RDATE:20270314T030000
TZOFFSETFROM:-0400
TZOFFSETTO:-0500
TZNAME:America/New_York EST
END:STANDARD
BEGIN:STANDARD
DTSTART:20271107T010000
RDATE:20280312T030000
TZOFFSETFROM:-0400
TZOFFSETTO:-0500
TZNAME:America/New_York EST
END:STANDARD
BEGIN:STANDARD
DTSTART:20281105T010000
RDATE:20290311T030000
TZOFFSETFROM:-0400
TZOFFSETTO:-0500
TZNAME:America/New_York EST
END:STANDARD
BEGIN:DAYLIGHT
DTSTART:20230823T000000
RDATE:20231105T010000
TZOFFSETFROM:-0500
TZOFFSETTO:-0400
TZNAME:America/New_York EDT
END:DAYLIGHT
BEGIN:DAYLIGHT
DTSTART:20240310T030000
RDATE:20241103T010000
TZOFFSETFROM:-0500
TZOFFSETTO:-0400
TZNAME:America/New_York EDT
END:DAYLIGHT
BEGIN:DAYLIGHT
DTSTART:20250309T030000
RDATE:20251102T010000
TZOFFSETFROM:-0500
TZOFFSETTO:-0400
TZNAME:America/New_York EDT
END:DAYLIGHT
BEGIN:DAYLIGHT
DTSTART:20260308T030000
RDATE:20261101T010000
TZOFFSETFROM:-0500
TZOFFSETTO:-0400
TZNAME:America/New_York EDT
END:DAYLIGHT
BEGIN:DAYLIGHT
DTSTART:20270314T030000
RDATE:20271107T010000
TZOFFSETFROM:-0500
TZOFFSETTO:-0400
TZNAME:America/New_York EDT
END:DAYLIGHT
BEGIN:DAYLIGHT
DTSTART:20280312T030000
RDATE:20281105T010000
TZOFFSETFROM:-0500
TZOFFSETTO:-0400
TZNAME:America/New_York EDT
END:DAYLIGHT
END:VTIMEZONE
BEGIN:VEVENT
UID:5e485091f7032e96c5f0eb6cbffb8426
CATEGORIES:English Riding
CREATED:20240709T135437
SUMMARY:Dressage at the World Equestrian Center
LOCATION:World Equestrian Center
DESCRIPTION:World Equestrian Center - Ocala’s 2024 Dressage schedule, sponsored by Hamp
 ton Green Farm and Discover Dressage features 15 competitions throughout th
 e year. See the remaining dates listed below for 2024.\n
\n
Note, ride time
 s will be available the day prior to competition. Locations will be added c
 loser to the event date. Competitions are expected to begin at 8am, with en
 d times varying based on the number of entries each day. \n
\n
July 13-14: 
 USEF/USDF competition (Indoor Arena 6, tentative)\n
August 23-25: Two USEF/
 USDF competitions\n
September 19-22: Great American Insurance Group/USDF Re
 gion 3 Dressage Championships\n
October 19-20: USEF/USDF competition\n
Nove
 mber 14-17: CDI3*/USEF/USDF competition\n
FEI Horse Inspection held Wednesd
 ay - no competition on Wednesday\n
December 11-15: CDI-W/USEF/USDF competit
 ion\n
FEI Horse Inspection held Wednesday - no competition on Wednesday \n

 \n
*Dates and times are subject to change. 
X-ALT-DESC;FMTTYPE=text/html:World Equestrian Center - Ocala’s 2024 Dressage schedule, sponsored by Hamp
 ton Green Farm and Discover Dressage features 15 competitions throughout th
 e year. See the remaining dates listed below for 2024.<br /><br />Note, rid
 e times will be available the day prior to competition. Locations will be a
 dded closer to the event date. Competitions are expected to begin at 8am, w
 ith end times varying based on the number of entries each day. <br /><br />
 July 13-14: USEF/USDF competition (Indoor Arena 6, tentative)<br />August 2
 3-25: Two USEF/USDF competitions<br />September 19-22: Great American Insur
 ance Group/USDF Region 3 Dressage Championships<br />October 19-20: USEF/US
 DF competition<br />November 14-17: CDI3*/USEF/USDF competition<br />FEI Ho
 rse Inspection held Wednesday - no competition on Wednesday<br />December 1
 1-15: CDI-W/USEF/USDF competition<br />FEI Horse Inspection held Wednesday 
 - no competition on Wednesday <br /><br />*Dates and times are subject to c
 hange. 
DTSTAMP:20260425T123322
DTSTART;TZID=America/New_York;VALUE=DATE:20240823
DTEND;TZID=America/New_York;VALUE=DATE:20240826
SEQUENCE:0
TRANSP:OPAQUE
END:VEVENT
END:VCALENDAR