BEGIN:VCALENDAR
VERSION:2.0
PRODID:-//jEvents 2.0 for Joomla//EN
CALSCALE:GREGORIAN
METHOD:PUBLISH
BEGIN:VTIMEZONE
TZID:America/New_York
BEGIN:STANDARD
DTSTART:20231105T010000
RDATE:20240310T030000
TZOFFSETFROM:-0400
TZOFFSETTO:-0500
TZNAME:America/New_York EST
END:STANDARD
BEGIN:STANDARD
DTSTART:20241103T010000
RDATE:20250309T030000
TZOFFSETFROM:-0400
TZOFFSETTO:-0500
TZNAME:America/New_York EST
END:STANDARD
BEGIN:STANDARD
DTSTART:20251102T010000
RDATE:20260308T030000
TZOFFSETFROM:-0400
TZOFFSETTO:-0500
TZNAME:America/New_York EST
END:STANDARD
BEGIN:STANDARD
DTSTART:20261101T010000
RDATE:20270314T030000
TZOFFSETFROM:-0400
TZOFFSETTO:-0500
TZNAME:America/New_York EST
END:STANDARD
BEGIN:STANDARD
DTSTART:20271107T010000
RDATE:20280312T030000
TZOFFSETFROM:-0400
TZOFFSETTO:-0500
TZNAME:America/New_York EST
END:STANDARD
BEGIN:STANDARD
DTSTART:20281105T010000
RDATE:20290311T030000
TZOFFSETFROM:-0400
TZOFFSETTO:-0500
TZNAME:America/New_York EST
END:STANDARD
BEGIN:DAYLIGHT
DTSTART:20230623T000000
RDATE:20231105T010000
TZOFFSETFROM:-0500
TZOFFSETTO:-0400
TZNAME:America/New_York EDT
END:DAYLIGHT
BEGIN:DAYLIGHT
DTSTART:20240310T030000
RDATE:20241103T010000
TZOFFSETFROM:-0500
TZOFFSETTO:-0400
TZNAME:America/New_York EDT
END:DAYLIGHT
BEGIN:DAYLIGHT
DTSTART:20250309T030000
RDATE:20251102T010000
TZOFFSETFROM:-0500
TZOFFSETTO:-0400
TZNAME:America/New_York EDT
END:DAYLIGHT
BEGIN:DAYLIGHT
DTSTART:20260308T030000
RDATE:20261101T010000
TZOFFSETFROM:-0500
TZOFFSETTO:-0400
TZNAME:America/New_York EDT
END:DAYLIGHT
BEGIN:DAYLIGHT
DTSTART:20270314T030000
RDATE:20271107T010000
TZOFFSETFROM:-0500
TZOFFSETTO:-0400
TZNAME:America/New_York EDT
END:DAYLIGHT
BEGIN:DAYLIGHT
DTSTART:20280312T030000
RDATE:20281105T010000
TZOFFSETFROM:-0500
TZOFFSETTO:-0400
TZNAME:America/New_York EDT
END:DAYLIGHT
END:VTIMEZONE
BEGIN:VEVENT
UID:2378a06a01f2162442306070a3fa0fd5
CATEGORIES:English Riding
CREATED:20240529T122856
SUMMARY:Summer Schooling Event I at Orchard Hill Equestrian Center, MA
LOCATION:Orchard Hill Equestrian Center
DESCRIPTION:Join us on Sunday, June 23, 2024 for a three phase horse trials at Orchard 
 Hill Fields.\n
\n
Courses will be inviting and less challenging than our su
 mmer events to help you warm up for the season.\n
\n
Second rides of your d
 ressage and jumping tests will be available; the first ride will count towa
 rd ribbons.\n
\n
Second rides may be at a different level than the first.\n
 
\n
Entry Fees:\n
$155 for each horse and rider 3-phase entry\n
$120 for ea
 ch horse and rider 2-phase entry\n
$95 for two dressage tests (any level)\n
 
$75 for one dressage test (only pre-elementary)\n
$30 for use of Orchard H
 ill school horse\n
\n
Orchard Hill hosts schooling shows in the spring, sum
 mer and early fall. \n
\n
We welcome new and experienced riders at five lev
 els:\n
\n
Pre-Elementary- Walk-trot dressage USDF Intro Test A , 18″ cross 
 rails and 12″ cross-country obstacles in an enclosed field\n
Elementary- US
 EA Starter Test, 2′ vertical stadium jumps, and an inviting XC course in op
 en fields with a variety of logs, coops, other obstacles to 2′, optional wa
 ter crossing\n
Advanced Elementary (a.k.a. Intro)-  USEA Starter Test- with
  verticals and oxers to 2’3″, XC has logs, coops, half-ditch, banks, water\
 n
Beginner Novice-  USEA BN Test A, 2’6″ jumps, small banks, small ditch wa
 ter crossing with optional jump out and small stone wall\n
Novice- USEA Nov
 ice Test A, 2’9″ stadium with combinations, XC jumps with water, banks and 
 drops, a stone wall, beaver dam, ditch and lots of variety to the terrain.\
 n
All dressage tests use the most recent revision (year) from their organiz
 ations- USEA/USDF\n
\n
Dressage is held in two quiet sand arenas at the top
  of the hill, while both jumping phases are in sand rings adjacent to parki
 ng.  Summer shows include a food truck! \n
\n
Entries are online; ride time
 s and results are posted here and on our Facebook page.
X-ALT-DESC;FMTTYPE=text/html:Join us on Sunday, June 23, 2024 for a three phase horse trials at Orchard 
 Hill Fields.<br /><br />Courses will be inviting and less challenging than 
 our summer events to help you warm up for the season.<br /><br />Second rid
 es of your dressage and jumping tests will be available; the first ride wil
 l count toward ribbons.<br /><br />Second rides may be at a different level
  than the first.<br /><br />Entry Fees:<br />$155 for each horse and rider 
 3-phase entry<br />$120 for each horse and rider 2-phase entry<br />$95 for
  two dressage tests (any level)<br />$75 for one dressage test (only pre-el
 ementary)<br />$30 for use of Orchard Hill school horse<br /><br />Orchard 
 Hill hosts schooling shows in the spring, summer and early fall. <br /><br 
 />We welcome new and experienced riders at five levels:<br /><br />Pre-Elem
 entary- Walk-trot dressage USDF Intro Test A , 18″ cross rails and 12″ cros
 s-country obstacles in an enclosed field<br />Elementary- USEA Starter Test
 , 2′ vertical stadium jumps, and an inviting XC course in open fields with 
 a variety of logs, coops, other obstacles to 2′, optional water crossing<br
  />Advanced Elementary (a.k.a. Intro)-  USEA Starter Test- with verticals a
 nd oxers to 2’3″, XC has logs, coops, half-ditch, banks, water<br />Beginne
 r Novice-  USEA BN Test A, 2’6″ jumps, small banks, small ditch water cross
 ing with optional jump out and small stone wall<br />Novice- USEA Novice Te
 st A, 2’9″ stadium with combinations, XC jumps with water, banks and drops,
  a stone wall, beaver dam, ditch and lots of variety to the terrain.<br />A
 ll dressage tests use the most recent revision (year) from their organizati
 ons- USEA/USDF<br /><br />Dressage is held in two quiet sand arenas at the 
 top of the hill, while both jumping phases are in sand rings adjacent to pa
 rking.  Summer shows include a food truck! <br /><br />Entries are online; 
 ride times and results are posted here and on our Facebook page.
DTSTAMP:20260425T110313
DTSTART;TZID=America/New_York;VALUE=DATE:20240623
DTEND;TZID=America/New_York;VALUE=DATE:20240624
SEQUENCE:0
TRANSP:OPAQUE
END:VEVENT
END:VCALENDAR