BEGIN:VCALENDAR
VERSION:2.0
PRODID:-//jEvents 2.0 for Joomla//EN
CALSCALE:GREGORIAN
METHOD:PUBLISH
BEGIN:VTIMEZONE
TZID:America/New_York
BEGIN:STANDARD
DTSTART:20231105T010000
RDATE:20240310T030000
TZOFFSETFROM:-0400
TZOFFSETTO:-0500
TZNAME:America/New_York EST
END:STANDARD
BEGIN:STANDARD
DTSTART:20241103T010000
RDATE:20250309T030000
TZOFFSETFROM:-0400
TZOFFSETTO:-0500
TZNAME:America/New_York EST
END:STANDARD
BEGIN:STANDARD
DTSTART:20251102T010000
RDATE:20260308T030000
TZOFFSETFROM:-0400
TZOFFSETTO:-0500
TZNAME:America/New_York EST
END:STANDARD
BEGIN:STANDARD
DTSTART:20261101T010000
RDATE:20270314T030000
TZOFFSETFROM:-0400
TZOFFSETTO:-0500
TZNAME:America/New_York EST
END:STANDARD
BEGIN:STANDARD
DTSTART:20271107T010000
RDATE:20280312T030000
TZOFFSETFROM:-0400
TZOFFSETTO:-0500
TZNAME:America/New_York EST
END:STANDARD
BEGIN:STANDARD
DTSTART:20281105T010000
RDATE:20290311T030000
TZOFFSETFROM:-0400
TZOFFSETTO:-0500
TZNAME:America/New_York EST
END:STANDARD
BEGIN:DAYLIGHT
DTSTART:20230603T000000
RDATE:20231105T010000
TZOFFSETFROM:-0500
TZOFFSETTO:-0400
TZNAME:America/New_York EDT
END:DAYLIGHT
BEGIN:DAYLIGHT
DTSTART:20240310T030000
RDATE:20241103T010000
TZOFFSETFROM:-0500
TZOFFSETTO:-0400
TZNAME:America/New_York EDT
END:DAYLIGHT
BEGIN:DAYLIGHT
DTSTART:20250309T030000
RDATE:20251102T010000
TZOFFSETFROM:-0500
TZOFFSETTO:-0400
TZNAME:America/New_York EDT
END:DAYLIGHT
BEGIN:DAYLIGHT
DTSTART:20260308T030000
RDATE:20261101T010000
TZOFFSETFROM:-0500
TZOFFSETTO:-0400
TZNAME:America/New_York EDT
END:DAYLIGHT
BEGIN:DAYLIGHT
DTSTART:20270314T030000
RDATE:20271107T010000
TZOFFSETFROM:-0500
TZOFFSETTO:-0400
TZNAME:America/New_York EDT
END:DAYLIGHT
BEGIN:DAYLIGHT
DTSTART:20280312T030000
RDATE:20281105T010000
TZOFFSETFROM:-0500
TZOFFSETTO:-0400
TZNAME:America/New_York EDT
END:DAYLIGHT
END:VTIMEZONE
BEGIN:VEVENT
UID:0b3e7660c9e50cf3da499c925777c96b
CATEGORIES:Horse Show
CREATED:20240520T125759
SUMMARY:UPPERVILLE COLT & HORSE SHOW PRESENTED BY MARS Equestrian™
LOCATION:Upperville Colt &amp; Horse Show
DESCRIPTION:FEI/CSI 4*\n
US Equestrian Premier Hunter\n
Jumper Level 6\n
In the shade o
 f the majestic oaks near the village of Upperville, Virginia, the 171st ann
 iversary of the oldest horse show in America runs June 3-9, 2024. During th
 is week, the nation’s top ranked hunters and jumpers will compete alongside
  the local ponies, sidesaddle ladies and the future of the sport in Hunter 
 Breeding and leadline classes.

Additional, non-horsey, competitions includ
 e the Horses &amp; Horsepower Car Show and the Pup Parade!
X-ALT-DESC;FMTTYPE=text/html:FEI/CSI 4*<br />US Equestrian Premier Hunter<br />Jumper Level 6<br />In th
 e shade of the majestic oaks near the village of Upperville, Virginia, the 
 171st anniversary of the oldest horse show in America runs June 3-9, 2024. 
 During this week, the nation’s top ranked hunters and jumpers will compete 
 alongside the local ponies, sidesaddle ladies and the future of the sport i
 n Hunter Breeding and leadline classes.Additional, non-horsey, competitions
  include the Horses & Horsepower Car Show and the Pup Parade!
DTSTAMP:20260425T035428
DTSTART;TZID=America/New_York;VALUE=DATE:20240603
DTEND;TZID=America/New_York;VALUE=DATE:20240610
SEQUENCE:0
TRANSP:OPAQUE
END:VEVENT
END:VCALENDAR