BEGIN:VCALENDAR
VERSION:2.0
PRODID:-//jEvents 2.0 for Joomla//EN
CALSCALE:GREGORIAN
METHOD:PUBLISH
BEGIN:VTIMEZONE
TZID:America/New_York
BEGIN:STANDARD
DTSTART:20231105T010000
RDATE:20240310T030000
TZOFFSETFROM:-0400
TZOFFSETTO:-0500
TZNAME:America/New_York EST
END:STANDARD
BEGIN:STANDARD
DTSTART:20241103T010000
RDATE:20250309T030000
TZOFFSETFROM:-0400
TZOFFSETTO:-0500
TZNAME:America/New_York EST
END:STANDARD
BEGIN:STANDARD
DTSTART:20251102T010000
RDATE:20260308T030000
TZOFFSETFROM:-0400
TZOFFSETTO:-0500
TZNAME:America/New_York EST
END:STANDARD
BEGIN:STANDARD
DTSTART:20261101T010000
RDATE:20270314T030000
TZOFFSETFROM:-0400
TZOFFSETTO:-0500
TZNAME:America/New_York EST
END:STANDARD
BEGIN:STANDARD
DTSTART:20271107T010000
RDATE:20280312T030000
TZOFFSETFROM:-0400
TZOFFSETTO:-0500
TZNAME:America/New_York EST
END:STANDARD
BEGIN:STANDARD
DTSTART:20281105T010000
RDATE:20290311T030000
TZOFFSETFROM:-0400
TZOFFSETTO:-0500
TZNAME:America/New_York EST
END:STANDARD
BEGIN:DAYLIGHT
DTSTART:20231010T000000
RDATE:20231105T010000
TZOFFSETFROM:-0500
TZOFFSETTO:-0400
TZNAME:America/New_York EDT
END:DAYLIGHT
BEGIN:DAYLIGHT
DTSTART:20240310T030000
RDATE:20241103T010000
TZOFFSETFROM:-0500
TZOFFSETTO:-0400
TZNAME:America/New_York EDT
END:DAYLIGHT
BEGIN:DAYLIGHT
DTSTART:20250309T030000
RDATE:20251102T010000
TZOFFSETFROM:-0500
TZOFFSETTO:-0400
TZNAME:America/New_York EDT
END:DAYLIGHT
BEGIN:DAYLIGHT
DTSTART:20260308T030000
RDATE:20261101T010000
TZOFFSETFROM:-0500
TZOFFSETTO:-0400
TZNAME:America/New_York EDT
END:DAYLIGHT
BEGIN:DAYLIGHT
DTSTART:20270314T030000
RDATE:20271107T010000
TZOFFSETFROM:-0500
TZOFFSETTO:-0400
TZNAME:America/New_York EDT
END:DAYLIGHT
BEGIN:DAYLIGHT
DTSTART:20280312T030000
RDATE:20281105T010000
TZOFFSETFROM:-0500
TZOFFSETTO:-0400
TZNAME:America/New_York EDT
END:DAYLIGHT
END:VTIMEZONE
BEGIN:VEVENT
UID:1430e85221a476175896c5e1ff37a0b2
CATEGORIES:Horse Show
CREATED:20240520T125059
SUMMARY:Pennsylvania National Horse Show
LOCATION:PA Farm Show Complex
DESCRIPTION:The first Pennsylvania National Horse Show was held at the Pennsylvania Far
 m Show Complex in 1946.\n
It was a four-day show with 226 horses entered, a
 nd it benefited the Harrisburg Kiwanis Youth Foundation. International team
 s competed at Harrisburg from 1948 until 1972. In 1950, the show was length
 ened to seven days, in 1962 to eight days, in 1970 to nine days, in 1982 to
  10 days and in 2023 to 11 days – which it is today.\n
\n
In the 50s and 60
 s, the show was a major social event in Harrisburg, and the Kiwanis volunte
 ers wore tuxedos as they sold tickets and programs. Arthur Godfrey televise
 d live nationwide from his horse Goldie at the show in 1955 and 1956. Throu
 ghout the horse show’s partnership with the Harrisburg Kiwanis, more than $
 1.5 million went back to the youth of Central Pennsylvania. Today, funds fr
 om the horse show fuel the PNHS Foundation, which awards annual grants to e
 quine rescues and therapeutic riding programs.
X-ALT-DESC;FMTTYPE=text/html:The first Pennsylvania National Horse Show was held at the Pennsylvania Far
 m Show Complex in 1946.<br />It was a four-day show with 226 horses entered
 , and it benefited the Harrisburg Kiwanis Youth Foundation. International t
 eams competed at Harrisburg from 1948 until 1972. In 1950, the show was len
 gthened to seven days, in 1962 to eight days, in 1970 to nine days, in 1982
  to 10 days and in 2023 to 11 days – which it is today.<br /><br />In the 5
 0s and 60s, the show was a major social event in Harrisburg, and the Kiwani
 s volunteers wore tuxedos as they sold tickets and programs. Arthur Godfrey
  televised live nationwide from his horse Goldie at the show in 1955 and 19
 56. Throughout the horse show’s partnership with the Harrisburg Kiwanis, mo
 re than $1.5 million went back to the youth of Central Pennsylvania. Today,
  funds from the horse show fuel the PNHS Foundation, which awards annual gr
 ants to equine rescues and therapeutic riding programs.
DTSTAMP:20260425T160015
DTSTART;TZID=America/New_York;VALUE=DATE:20241010
DTEND;TZID=America/New_York;VALUE=DATE:20241021
SEQUENCE:0
TRANSP:OPAQUE
END:VEVENT
END:VCALENDAR