BEGIN:VCALENDAR
VERSION:2.0
PRODID:-//jEvents 2.0 for Joomla//EN
CALSCALE:GREGORIAN
METHOD:PUBLISH
BEGIN:VTIMEZONE
TZID:America/New_York
BEGIN:STANDARD
DTSTART:20231105T010000
RDATE:20240310T030000
TZOFFSETFROM:-0400
TZOFFSETTO:-0500
TZNAME:America/New_York EST
END:STANDARD
BEGIN:STANDARD
DTSTART:20241103T010000
RDATE:20250309T030000
TZOFFSETFROM:-0400
TZOFFSETTO:-0500
TZNAME:America/New_York EST
END:STANDARD
BEGIN:STANDARD
DTSTART:20251102T010000
RDATE:20260308T030000
TZOFFSETFROM:-0400
TZOFFSETTO:-0500
TZNAME:America/New_York EST
END:STANDARD
BEGIN:STANDARD
DTSTART:20261101T010000
RDATE:20270314T030000
TZOFFSETFROM:-0400
TZOFFSETTO:-0500
TZNAME:America/New_York EST
END:STANDARD
BEGIN:STANDARD
DTSTART:20271107T010000
RDATE:20280312T030000
TZOFFSETFROM:-0400
TZOFFSETTO:-0500
TZNAME:America/New_York EST
END:STANDARD
BEGIN:STANDARD
DTSTART:20281105T010000
RDATE:20290311T030000
TZOFFSETFROM:-0400
TZOFFSETTO:-0500
TZNAME:America/New_York EST
END:STANDARD
BEGIN:DAYLIGHT
DTSTART:20230427T000000
RDATE:20231105T010000
TZOFFSETFROM:-0500
TZOFFSETTO:-0400
TZNAME:America/New_York EDT
END:DAYLIGHT
BEGIN:DAYLIGHT
DTSTART:20240310T030000
RDATE:20241103T010000
TZOFFSETFROM:-0500
TZOFFSETTO:-0400
TZNAME:America/New_York EDT
END:DAYLIGHT
BEGIN:DAYLIGHT
DTSTART:20250309T030000
RDATE:20251102T010000
TZOFFSETFROM:-0500
TZOFFSETTO:-0400
TZNAME:America/New_York EDT
END:DAYLIGHT
BEGIN:DAYLIGHT
DTSTART:20260308T030000
RDATE:20261101T010000
TZOFFSETFROM:-0500
TZOFFSETTO:-0400
TZNAME:America/New_York EDT
END:DAYLIGHT
BEGIN:DAYLIGHT
DTSTART:20270314T030000
RDATE:20271107T010000
TZOFFSETFROM:-0500
TZOFFSETTO:-0400
TZNAME:America/New_York EDT
END:DAYLIGHT
BEGIN:DAYLIGHT
DTSTART:20280312T030000
RDATE:20281105T010000
TZOFFSETFROM:-0500
TZOFFSETTO:-0400
TZNAME:America/New_York EDT
END:DAYLIGHT
END:VTIMEZONE
BEGIN:VEVENT
UID:ef3d6adf26eac60bd7c7901bca46258a
CATEGORIES:Health & Education
CREATED:20240221T104843
SUMMARY:Cal Middleton Horsemanship Clinic - April 27, 2024
LOCATION:Deerfield\, WI
DESCRIPTION:Contact: Paul 262 707-4738\n
There are many out there today offering a vari
 ety of services, but Cal may stand alone as one who has a true understandin
 g of the good and bad of the show horse arena reaching high levels of succe
 ss himself, has real world experience on farms and ranches, and understands
  the depths of true horsemanship being able to teach it to others while alw
 ays keeping the horses’ best interest in mind. 
\n

Cal published his first
  book in 2016, started the Horses and Life podcast in 2019 and has contribu
 ting author to many equine magazines for over a decade. 
\n

Cal has a pass
 ion for children and has worked full time as a behavioral implementor and c
 onsultant inside schools and homes. He also worked 8 years as a high school
  wrestling coach, among many other jobs in the real world. 
\n

Cal is a pa
 st president of the Heart of America Brangus Association and a former judge
  for the National Reining Horse Association. He is a lifetime member of the
  AQHA, NRHA, ASHA, ApHC, APHA, IBHA, ACHA, and many others. 
\n
The HORSEMA
 NSHIP class is a continuation of the foundation class. In the Horsemanship 
 class, we start mounted and only do a small amount of groundwork if deemed 
 necessary for safety. The class consists of gaining better control of our h
 orses feet through feel, timing, and balance. We work on building confidenc
 e with our horses, and helping the riders and horses react favorably to str
 essful and exciting situations. We work on straightness, different forms of
  transitions, and ways of moving the hindquarters and the front end. Cal wi
 ll take into consideration, the riders in each clinic and adjust accordingl
 y. Those who are only able to attend the Horsemanship class are encouraged 
 to come and audit the Foundation class at no extra cost, in order to have a
  deeper understanding of their horses. \n
X-ALT-DESC;FMTTYPE=text/html:<p>Contact: Paul 262 707-4738</p><p>There are many out there today offering
  a variety of services, but Cal may stand alone as one who has a true under
 standing of the good and bad of the show horse arena reaching high levels o
 f success himself, has real world experience on farms and ranches, and unde
 rstands the depths of true horsemanship being able to teach it to others wh
 ile always keeping the horses’ best interest in mind. </p><p>Cal published 
 his first book in 2016, started the Horses and Life podcast in 2019 and has
  contributing author to many equine magazines for over a decade. </p><p>Cal
  has a passion for children and has worked full time as a behavioral implem
 entor and consultant inside schools and homes. He also worked 8 years as a 
 high school wrestling coach, among many other jobs in the real world. </p><
 p>Cal is a past president of the Heart of America Brangus Association and a
  former judge for the National Reining Horse Association. He is a lifetime 
 member of the AQHA, NRHA, ASHA, ApHC, APHA, IBHA, ACHA, and many others. </
 p><p>The HORSEMANSHIP class is a continuation of the foundation class. In t
 he Horsemanship class, we start mounted and only do a small amount of groun
 dwork if deemed necessary for safety. The class consists of gaining better 
 control of our horses feet through feel, timing, and balance. We work on bu
 ilding confidence with our horses, and helping the riders and horses react 
 favorably to stressful and exciting situations. We work on straightness, di
 fferent forms of transitions, and ways of moving the hindquarters and the f
 ront end. Cal will take into consideration, the riders in each clinic and a
 djust accordingly. Those who are only able to attend the Horsemanship class
  are encouraged to come and audit the Foundation class at no extra cost, in
  order to have a deeper understanding of their horses. </p>
DTSTAMP:20260425T123324
DTSTART;TZID=America/New_York;VALUE=DATE:20240427
DTEND;TZID=America/New_York;VALUE=DATE:20240501
SEQUENCE:0
TRANSP:OPAQUE
END:VEVENT
END:VCALENDAR