BEGIN:VCALENDAR
VERSION:2.0
PRODID:-//jEvents 2.0 for Joomla//EN
CALSCALE:GREGORIAN
METHOD:PUBLISH
BEGIN:VTIMEZONE
TZID:America/New_York
BEGIN:STANDARD
DTSTART:20231105T010000
RDATE:20240310T030000
TZOFFSETFROM:-0400
TZOFFSETTO:-0500
TZNAME:America/New_York EST
END:STANDARD
BEGIN:STANDARD
DTSTART:20241103T010000
RDATE:20250309T030000
TZOFFSETFROM:-0400
TZOFFSETTO:-0500
TZNAME:America/New_York EST
END:STANDARD
BEGIN:STANDARD
DTSTART:20251102T010000
RDATE:20260308T030000
TZOFFSETFROM:-0400
TZOFFSETTO:-0500
TZNAME:America/New_York EST
END:STANDARD
BEGIN:STANDARD
DTSTART:20261101T010000
RDATE:20270314T030000
TZOFFSETFROM:-0400
TZOFFSETTO:-0500
TZNAME:America/New_York EST
END:STANDARD
BEGIN:STANDARD
DTSTART:20271107T010000
RDATE:20280312T030000
TZOFFSETFROM:-0400
TZOFFSETTO:-0500
TZNAME:America/New_York EST
END:STANDARD
BEGIN:STANDARD
DTSTART:20281105T010000
RDATE:20290311T030000
TZOFFSETFROM:-0400
TZOFFSETTO:-0500
TZNAME:America/New_York EST
END:STANDARD
BEGIN:DAYLIGHT
DTSTART:20230406T000000
RDATE:20231105T010000
TZOFFSETFROM:-0500
TZOFFSETTO:-0400
TZNAME:America/New_York EDT
END:DAYLIGHT
BEGIN:DAYLIGHT
DTSTART:20240310T030000
RDATE:20241103T010000
TZOFFSETFROM:-0500
TZOFFSETTO:-0400
TZNAME:America/New_York EDT
END:DAYLIGHT
BEGIN:DAYLIGHT
DTSTART:20250309T030000
RDATE:20251102T010000
TZOFFSETFROM:-0500
TZOFFSETTO:-0400
TZNAME:America/New_York EDT
END:DAYLIGHT
BEGIN:DAYLIGHT
DTSTART:20260308T030000
RDATE:20261101T010000
TZOFFSETFROM:-0500
TZOFFSETTO:-0400
TZNAME:America/New_York EDT
END:DAYLIGHT
BEGIN:DAYLIGHT
DTSTART:20270314T030000
RDATE:20271107T010000
TZOFFSETFROM:-0500
TZOFFSETTO:-0400
TZNAME:America/New_York EDT
END:DAYLIGHT
BEGIN:DAYLIGHT
DTSTART:20280312T030000
RDATE:20281105T010000
TZOFFSETFROM:-0500
TZOFFSETTO:-0400
TZNAME:America/New_York EDT
END:DAYLIGHT
END:VTIMEZONE
BEGIN:VEVENT
UID:b22680d517acd699bfc54b7f949266ab
CATEGORIES:Health & Education
CREATED:20240221T104505
SUMMARY:Cal Middleton Horsemanship Clinic - 2024 April
LOCATION:Lone Jack\, MO
DESCRIPTION:Contact: Kelly 816 547-9508\n
There are many out there today offering a var
 iety of services, but Cal may stand alone as one who has a true understandi
 ng of the good and bad of the show horse arena reaching high levels of succ
 ess himself, has real world experience on farms and ranches, and understand
 s the depths of true horsemanship being able to teach it to others while al
 ways keeping the horses’ best interest in mind. 
\n

Cal published his firs
 t book in 2016, started the Horses and Life podcast in 2019 and has contrib
 uting author to many equine magazines for over a decade. 
\n

Cal has a pas
 sion for children and has worked full time as a behavioral implementor and 
 consultant inside schools and homes. He also worked 8 years as a high schoo
 l wrestling coach, among many other jobs in the real world. 
\n

Cal is a p
 ast president of the Heart of America Brangus Association and a former judg
 e for the National Reining Horse Association. He is a lifetime member of th
 e AQHA, NRHA, ASHA, ApHC, APHA, IBHA, ACHA, and many others. 
\n
The HORSEM
 ANSHIP class is a continuation of the foundation class. In the Horsemanship
  class, we start mounted and only do a small amount of groundwork if deemed
  necessary for safety. The class consists of gaining better control of our 
 horses feet through feel, timing, and balance. We work on building confiden
 ce with our horses, and helping the riders and horses react favorably to st
 ressful and exciting situations. We work on straightness, different forms o
 f transitions, and ways of moving the hindquarters and the front end. Cal w
 ill take into consideration, the riders in each clinic and adjust according
 ly. Those who are only able to attend the Horsemanship class are encouraged
  to come and audit the Foundation class at no extra cost, in order to have 
 a deeper understanding of their horses. \n
X-ALT-DESC;FMTTYPE=text/html:<p>Contact: Kelly 816 547-9508</p><p>There are many out there today offerin
 g a variety of services, but Cal may stand alone as one who has a true unde
 rstanding of the good and bad of the show horse arena reaching high levels 
 of success himself, has real world experience on farms and ranches, and und
 erstands the depths of true horsemanship being able to teach it to others w
 hile always keeping the horses’ best interest in mind. </p><p>Cal published
  his first book in 2016, started the Horses and Life podcast in 2019 and ha
 s contributing author to many equine magazines for over a decade. </p><p>Ca
 l has a passion for children and has worked full time as a behavioral imple
 mentor and consultant inside schools and homes. He also worked 8 years as a
  high school wrestling coach, among many other jobs in the real world. </p>
 <p>Cal is a past president of the Heart of America Brangus Association and 
 a former judge for the National Reining Horse Association. He is a lifetime
  member of the AQHA, NRHA, ASHA, ApHC, APHA, IBHA, ACHA, and many others. <
 /p><p>The HORSEMANSHIP class is a continuation of the foundation class. In 
 the Horsemanship class, we start mounted and only do a small amount of grou
 ndwork if deemed necessary for safety. The class consists of gaining better
  control of our horses feet through feel, timing, and balance. We work on b
 uilding confidence with our horses, and helping the riders and horses react
  favorably to stressful and exciting situations. We work on straightness, d
 ifferent forms of transitions, and ways of moving the hindquarters and the 
 front end. Cal will take into consideration, the riders in each clinic and 
 adjust accordingly. Those who are only able to attend the Horsemanship clas
 s are encouraged to come and audit the Foundation class at no extra cost, i
 n order to have a deeper understanding of their horses. </p>
DTSTAMP:20260425T023815
DTSTART;TZID=America/New_York;VALUE=DATE:20240406
DTEND;TZID=America/New_York;VALUE=DATE:20240410
SEQUENCE:0
TRANSP:OPAQUE
END:VEVENT
END:VCALENDAR