BEGIN:VCALENDAR
VERSION:2.0
PRODID:-//jEvents 2.0 for Joomla//EN
CALSCALE:GREGORIAN
METHOD:PUBLISH
BEGIN:VTIMEZONE
TZID:America/New_York
BEGIN:STANDARD
DTSTART:20241103T010000
RDATE:20250309T030000
TZOFFSETFROM:-0400
TZOFFSETTO:-0500
TZNAME:America/New_York EST
END:STANDARD
BEGIN:STANDARD
DTSTART:20251102T010000
RDATE:20260308T030000
TZOFFSETFROM:-0400
TZOFFSETTO:-0500
TZNAME:America/New_York EST
END:STANDARD
BEGIN:STANDARD
DTSTART:20261101T010000
RDATE:20270314T030000
TZOFFSETFROM:-0400
TZOFFSETTO:-0500
TZNAME:America/New_York EST
END:STANDARD
BEGIN:STANDARD
DTSTART:20271107T010000
RDATE:20280312T030000
TZOFFSETFROM:-0400
TZOFFSETTO:-0500
TZNAME:America/New_York EST
END:STANDARD
BEGIN:STANDARD
DTSTART:20281105T010000
RDATE:20290311T030000
TZOFFSETFROM:-0400
TZOFFSETTO:-0500
TZNAME:America/New_York EST
END:STANDARD
BEGIN:DAYLIGHT
DTSTART:20240314T000000
RDATE:20241103T010000
TZOFFSETFROM:-0500
TZOFFSETTO:-0400
TZNAME:America/New_York EDT
END:DAYLIGHT
BEGIN:DAYLIGHT
DTSTART:20250309T030000
RDATE:20251102T010000
TZOFFSETFROM:-0500
TZOFFSETTO:-0400
TZNAME:America/New_York EDT
END:DAYLIGHT
BEGIN:DAYLIGHT
DTSTART:20260308T030000
RDATE:20261101T010000
TZOFFSETFROM:-0500
TZOFFSETTO:-0400
TZNAME:America/New_York EDT
END:DAYLIGHT
BEGIN:DAYLIGHT
DTSTART:20270314T030000
RDATE:20271107T010000
TZOFFSETFROM:-0500
TZOFFSETTO:-0400
TZNAME:America/New_York EDT
END:DAYLIGHT
BEGIN:DAYLIGHT
DTSTART:20280312T030000
RDATE:20281105T010000
TZOFFSETFROM:-0500
TZOFFSETTO:-0400
TZNAME:America/New_York EDT
END:DAYLIGHT
END:VTIMEZONE
BEGIN:VEVENT
UID:51d97ddf38c2a47ac985a1e0e6d1bb45
CATEGORIES:Health & Education
CREATED:20240221T104316
SUMMARY:Cal Middleton Horsemanship Clinic - March 15, 2025
LOCATION:Reidsville\, NC
DESCRIPTION:<p>There are many out there today offering a variety of services, but Cal m
 ay stand alone as one who has a true understanding of the good and bad of t
 he show horse arena reaching high levels of success himself, has real world
  experience on farms and ranches, and understands the depths of true horsem
 anship being able to teach it to others while always keeping the horses’ be
 st interest in mind. </p><p>Cal published his first book in 2016, started t
 he Horses and Life podcast in 2019 and has contributing author to many equi
 ne magazines for over a decade. </p><p>Cal has a passion for children and h
 as worked full time as a behavioral implementor and consultant inside schoo
 ls and homes. He also worked 8 years as a high school wrestling coach, amon
 g many other jobs in the real world. </p><p>Cal is a past president of the 
 Heart of America Brangus Association and a former judge for the National Re
 ining Horse Association. He is a lifetime member of the AQHA, NRHA, ASHA, A
 pHC, APHA, IBHA, ACHA, and many others. </p><p>The HORSEMANSHIP class is a 
 continuation of the foundation class. In the Horsemanship class, we start m
 ounted and only do a small amount of groundwork if deemed necessary for saf
 ety. The class consists of gaining better control of our horses feet throug
 h feel, timing, and balance. We work on building confidence with our horses
 , and helping the riders and horses react favorably to stressful and exciti
 ng situations. We work on straightness, different forms of transitions, and
  ways of moving the hindquarters and the front end. Cal will take into cons
 ideration, the riders in each clinic and adjust accordingly. Those who are 
 only able to attend the Horsemanship class are encouraged to come and audit
  the Foundation class at no extra cost, in order to have a deeper understan
 ding of their horses. </p>
DTSTAMP:20260425T024219
DTSTART;TZID=America/New_York;VALUE=DATE:20250315
DTEND;TZID=America/New_York;VALUE=DATE:20250318
SEQUENCE:0
TRANSP:OPAQUE
END:VEVENT
END:VCALENDAR