BEGIN:VCALENDAR
VERSION:2.0
PRODID:-//jEvents 2.0 for Joomla//EN
CALSCALE:GREGORIAN
METHOD:PUBLISH
BEGIN:VTIMEZONE
TZID:America/New_York
BEGIN:STANDARD
DTSTART:20231105T010000
RDATE:20240310T030000
TZOFFSETFROM:-0400
TZOFFSETTO:-0500
TZNAME:America/New_York EST
END:STANDARD
BEGIN:STANDARD
DTSTART:20241103T010000
RDATE:20250309T030000
TZOFFSETFROM:-0400
TZOFFSETTO:-0500
TZNAME:America/New_York EST
END:STANDARD
BEGIN:STANDARD
DTSTART:20251102T010000
RDATE:20260308T030000
TZOFFSETFROM:-0400
TZOFFSETTO:-0500
TZNAME:America/New_York EST
END:STANDARD
BEGIN:STANDARD
DTSTART:20261101T010000
RDATE:20270314T030000
TZOFFSETFROM:-0400
TZOFFSETTO:-0500
TZNAME:America/New_York EST
END:STANDARD
BEGIN:STANDARD
DTSTART:20271107T010000
RDATE:20280312T030000
TZOFFSETFROM:-0400
TZOFFSETTO:-0500
TZNAME:America/New_York EST
END:STANDARD
BEGIN:STANDARD
DTSTART:20281105T010000
RDATE:20290311T030000
TZOFFSETFROM:-0400
TZOFFSETTO:-0500
TZNAME:America/New_York EST
END:STANDARD
BEGIN:DAYLIGHT
DTSTART:20230511T000000
RDATE:20231105T010000
TZOFFSETFROM:-0500
TZOFFSETTO:-0400
TZNAME:America/New_York EDT
END:DAYLIGHT
BEGIN:DAYLIGHT
DTSTART:20240310T030000
RDATE:20241103T010000
TZOFFSETFROM:-0500
TZOFFSETTO:-0400
TZNAME:America/New_York EDT
END:DAYLIGHT
BEGIN:DAYLIGHT
DTSTART:20250309T030000
RDATE:20251102T010000
TZOFFSETFROM:-0500
TZOFFSETTO:-0400
TZNAME:America/New_York EDT
END:DAYLIGHT
BEGIN:DAYLIGHT
DTSTART:20260308T030000
RDATE:20261101T010000
TZOFFSETFROM:-0500
TZOFFSETTO:-0400
TZNAME:America/New_York EDT
END:DAYLIGHT
BEGIN:DAYLIGHT
DTSTART:20270314T030000
RDATE:20271107T010000
TZOFFSETFROM:-0500
TZOFFSETTO:-0400
TZNAME:America/New_York EDT
END:DAYLIGHT
BEGIN:DAYLIGHT
DTSTART:20280312T030000
RDATE:20281105T010000
TZOFFSETFROM:-0500
TZOFFSETTO:-0400
TZNAME:America/New_York EDT
END:DAYLIGHT
END:VTIMEZONE
BEGIN:VEVENT
UID:8154b9a18fbb6c632892ece6d3137fdb
CATEGORIES:Steeplechase
CREATED:20240213T130044
SUMMARY:Willowdale Steeplechase
LOCATION:Willlowdale Steeplechase
DESCRIPTION:Welcome to the Willowdale Steeplechase Races, a thrilling day of equestrian
  excellence and family-friendly fun nestled in the picturesque Chester Coun
 ty, Pennsylvania.
The annual event is a celebration of tradition, skill, an
 d community spirit.
\n
Experience Equestrian Excellence\n
Classic Car Enthu
 siasts Rejoice\n
Family-Friendly Activities\n
Shop, Savor, and Enjoy\n
Tail
 gate in Style\n
\n
X-ALT-DESC;FMTTYPE=text/html:<p>Welcome to the Willowdale Steeplechase Races, a thrilling day of equestr
 ian excellence and family-friendly fun nestled in the picturesque Chester C
 ounty, Pennsylvania.The annual event is a celebration of tradition, skill, 
 and community spirit.</p><p>Experience Equestrian Excellence<br />Classic C
 ar Enthusiasts Rejoice<br />Family-Friendly Activities<br />Shop, Savor, an
 d Enjoy<br />Tailgate in Style<br /></p>
DTSTAMP:20260425T035629
DTSTART;TZID=America/New_York;VALUE=DATE:20240511
DTEND;TZID=America/New_York;VALUE=DATE:20240512
SEQUENCE:0
TRANSP:OPAQUE
END:VEVENT
END:VCALENDAR