BEGIN:VCALENDAR
VERSION:2.0
PRODID:-//jEvents 2.0 for Joomla//EN
CALSCALE:GREGORIAN
METHOD:PUBLISH
BEGIN:VTIMEZONE
TZID:America/New_York
BEGIN:STANDARD
DTSTART:20230311T230000
RDATE:20230312T030000
TZOFFSETFROM:-0400
TZOFFSETTO:-0500
TZNAME:America/New_York EST
END:STANDARD
BEGIN:STANDARD
DTSTART:20231105T010000
RDATE:20240310T030000
TZOFFSETFROM:-0400
TZOFFSETTO:-0500
TZNAME:America/New_York EST
END:STANDARD
BEGIN:STANDARD
DTSTART:20241103T010000
RDATE:20250309T030000
TZOFFSETFROM:-0400
TZOFFSETTO:-0500
TZNAME:America/New_York EST
END:STANDARD
BEGIN:STANDARD
DTSTART:20251102T010000
RDATE:20260308T030000
TZOFFSETFROM:-0400
TZOFFSETTO:-0500
TZNAME:America/New_York EST
END:STANDARD
BEGIN:STANDARD
DTSTART:20261101T010000
RDATE:20270314T030000
TZOFFSETFROM:-0400
TZOFFSETTO:-0500
TZNAME:America/New_York EST
END:STANDARD
BEGIN:STANDARD
DTSTART:20271107T010000
RDATE:20280312T030000
TZOFFSETFROM:-0400
TZOFFSETTO:-0500
TZNAME:America/New_York EST
END:STANDARD
BEGIN:STANDARD
DTSTART:20281105T010000
RDATE:20290311T030000
TZOFFSETFROM:-0400
TZOFFSETTO:-0500
TZNAME:America/New_York EST
END:STANDARD
BEGIN:DAYLIGHT
DTSTART:20230312T030000
RDATE:20231105T010000
TZOFFSETFROM:-0500
TZOFFSETTO:-0400
TZNAME:America/New_York EDT
END:DAYLIGHT
BEGIN:DAYLIGHT
DTSTART:20240310T030000
RDATE:20241103T010000
TZOFFSETFROM:-0500
TZOFFSETTO:-0400
TZNAME:America/New_York EDT
END:DAYLIGHT
BEGIN:DAYLIGHT
DTSTART:20250309T030000
RDATE:20251102T010000
TZOFFSETFROM:-0500
TZOFFSETTO:-0400
TZNAME:America/New_York EDT
END:DAYLIGHT
BEGIN:DAYLIGHT
DTSTART:20260308T030000
RDATE:20261101T010000
TZOFFSETFROM:-0500
TZOFFSETTO:-0400
TZNAME:America/New_York EDT
END:DAYLIGHT
BEGIN:DAYLIGHT
DTSTART:20270314T030000
RDATE:20271107T010000
TZOFFSETFROM:-0500
TZOFFSETTO:-0400
TZNAME:America/New_York EDT
END:DAYLIGHT
BEGIN:DAYLIGHT
DTSTART:20280312T030000
RDATE:20281105T010000
TZOFFSETFROM:-0500
TZOFFSETTO:-0400
TZNAME:America/New_York EDT
END:DAYLIGHT
END:VTIMEZONE
BEGIN:VEVENT
UID:c5360093de765ae4d6c0a06d6035bcee
CATEGORIES:Horse Racing
CREATED:20240213T115053
SUMMARY:Cheltenham Festival - Jump Racing
LOCATION:Cheltenham Racecourse
DESCRIPTION:<p>Four extraordinary days of racing from Tuesday 12 to Friday 15 March 202
 4. Featuring 14 Grade One races across four days of racing as the best hors
 es, trainers and jockeys go head to head.</p><p>Each of the races at The Ch
 eltenham Festival is a chance to be part of history. It creates memories th
 at last a lifetime. You don’t want to miss it. We look forward to enjoying 
 the action with you in 2024.</p><p>Starting with Champion Day - celebrate t
 he return of jump racing’s greatest festival where reigning and future Cham
 pions unite, all eager to carve their name into the star-studded wall of Ju
 mp Racing Greats.</p><p>Day two is filled with unmissable action on and off
  the track, Festival Wednesday features the Betway Queen Mother Champion Ch
 ase, where speed and jumping ability matters most.</p><p>For celebrations l
 ike no other and racing to match, St Patrick’s Thursday provides. Where Iri
 sh passion raises the rafters and the horses and jockeys put on a special s
 how to try and tip the balance and get closer to winning the coveted Prestb
 ury cup.</p><p>Finally, there’s Gold Cup Day, the jewel in Jump Racing’s cr
 own, the most prestigious trophy in horse racing and arguably, sport. Who w
 ill you back to claim the ultimate title and be crowned the Boodles Chelten
 ham Gold Cup winner 2024?</p>
DTSTAMP:20260425T024235
DTSTART;TZID=America/New_York;VALUE=DATE:20240312
DTEND;TZID=America/New_York;VALUE=DATE:20240316
SEQUENCE:0
TRANSP:OPAQUE
END:VEVENT
END:VCALENDAR